BEGIN:VCALENDAR
VERSION:2.0
PRODID:-//Mailers Hub - ECPv6.15.20//NONSGML v1.0//EN
CALSCALE:GREGORIAN
METHOD:PUBLISH
X-WR-CALNAME:Mailers Hub
X-ORIGINAL-URL:https://mailershub.com
X-WR-CALDESC:Events for Mailers Hub
REFRESH-INTERVAL;VALUE=DURATION:PT1H
X-Robots-Tag:noindex
X-PUBLISHED-TTL:PT1H
BEGIN:VTIMEZONE
TZID:America/New_York
BEGIN:DAYLIGHT
TZOFFSETFROM:-0500
TZOFFSETTO:-0400
TZNAME:EDT
DTSTART:20240310T070000
END:DAYLIGHT
BEGIN:STANDARD
TZOFFSETFROM:-0400
TZOFFSETTO:-0500
TZNAME:EST
DTSTART:20241103T060000
END:STANDARD
BEGIN:DAYLIGHT
TZOFFSETFROM:-0500
TZOFFSETTO:-0400
TZNAME:EDT
DTSTART:20250309T070000
END:DAYLIGHT
BEGIN:STANDARD
TZOFFSETFROM:-0400
TZOFFSETTO:-0500
TZNAME:EST
DTSTART:20251102T060000
END:STANDARD
BEGIN:DAYLIGHT
TZOFFSETFROM:-0500
TZOFFSETTO:-0400
TZNAME:EDT
DTSTART:20260308T070000
END:DAYLIGHT
BEGIN:STANDARD
TZOFFSETFROM:-0400
TZOFFSETTO:-0500
TZNAME:EST
DTSTART:20261101T060000
END:STANDARD
END:VTIMEZONE
BEGIN:VEVENT
DTSTART;TZID=America/New_York:20251016T130000
DTEND;TZID=America/New_York:20251016T140000
DTSTAMP:20260422T185709
CREATED:20251016T024228Z
LAST-MODIFIED:20251016T024231Z
UID:4269-1760619600-1760623200@mailershub.com
SUMMARY:USPS Outlook: Future Rate Changes
DESCRIPTION:Presented by Sharon Owens\, Vice President\, Pricing and Costing\, USPS \n\n\n\nThe good news is that there won’t be a price increase in January\, but the bad news is that there will be one in July 2026.  There were structural changes that had been planned for January as well\, and those – plus others – may now be happening in July.  The best person to speak about this is Sharon Owens\, USPS VP for Pricing and Costing\, who will be speaking on our webinar this Thursday at 1pm.  To learn what’s ahead\, register for the webinar now.
URL:https://mailershub.com/event/usps-outlook-future-rate-changes/
CATEGORIES:Webinars
ORGANIZER;CN="Mailers Hub":MAILTO:info@mailershub.com
END:VEVENT
BEGIN:VEVENT
DTSTART;TZID=America/New_York:20251022T080000
DTEND;TZID=America/New_York:20251024T170000
DTSTAMP:20260422T185709
CREATED:20240912T184837Z
LAST-MODIFIED:20240912T184843Z
UID:3199-1761120000-1761325200@mailershub.com
SUMMARY:PRINTING United Expo
DESCRIPTION:
URL:https://mailershub.com/event/printing-united-expo-2/
END:VEVENT
END:VCALENDAR