BEGIN:VCALENDAR
VERSION:2.0
PRODID:-//Mailers Hub - ECPv6.15.20//NONSGML v1.0//EN
CALSCALE:GREGORIAN
METHOD:PUBLISH
X-WR-CALNAME:Mailers Hub
X-ORIGINAL-URL:https://mailershub.com
X-WR-CALDESC:Events for Mailers Hub
REFRESH-INTERVAL;VALUE=DURATION:PT1H
X-Robots-Tag:noindex
X-PUBLISHED-TTL:PT1H
BEGIN:VTIMEZONE
TZID:America/New_York
BEGIN:DAYLIGHT
TZOFFSETFROM:-0500
TZOFFSETTO:-0400
TZNAME:EDT
DTSTART:20240310T070000
END:DAYLIGHT
BEGIN:STANDARD
TZOFFSETFROM:-0400
TZOFFSETTO:-0500
TZNAME:EST
DTSTART:20241103T060000
END:STANDARD
BEGIN:DAYLIGHT
TZOFFSETFROM:-0500
TZOFFSETTO:-0400
TZNAME:EDT
DTSTART:20250309T070000
END:DAYLIGHT
BEGIN:STANDARD
TZOFFSETFROM:-0400
TZOFFSETTO:-0500
TZNAME:EST
DTSTART:20251102T060000
END:STANDARD
BEGIN:DAYLIGHT
TZOFFSETFROM:-0500
TZOFFSETTO:-0400
TZNAME:EDT
DTSTART:20260308T070000
END:DAYLIGHT
BEGIN:STANDARD
TZOFFSETFROM:-0400
TZOFFSETTO:-0500
TZNAME:EST
DTSTART:20261101T060000
END:STANDARD
END:VTIMEZONE
BEGIN:VEVENT
DTSTART;TZID=America/New_York:20250807T130000
DTEND;TZID=America/New_York:20250807T140000
DTSTAMP:20260422T222920
CREATED:20250724T190930Z
LAST-MODIFIED:20250731T164737Z
UID:3969-1754571600-1754575200@mailershub.com
SUMMARY:Beyond the Stamp: How USPS Promotions Supercharge Direct Mail
DESCRIPTION:Join us as Kate Sanders from BCC Software explores how USPS promotions offer more than just postage discounts. In this session\, she’ll break down how these programs are designed to add strategic value to your mail campaigns – from increased visibility and digital engagement to stronger ROI. You’ll learn how to plan ahead\, align the right promotions with your marketing goals\, and understand why it’s more important than ever for MSPs to lean into these offerings. \n\n\n\n \n\n\n\nKate Sanders recently joined BCC Software as an Omnichannel Product Development Manager\, bringing with her a deep passion for bridging innovation and practicality in the mailing industry. Prior to BCC\, she spent three years at Lob\, where she led the development of their USPS promotions portal\, helping customers seamlessly access and benefit from USPS incentives. Now at BCC\, Kate is focused on empowering MSPs with the tools\, insights\, and support they need to take full advantage of USPS promotions and elevate the impact of their mail campaigns. \n\n\n\n \n\n\n\n\nSubscriber Registration(Log in required)\n\n\n\nNon-subscriberRegistration
URL:https://mailershub.com/event/beyond-the-stamp-how-usps-promotions-supercharge-direct-mail/
CATEGORIES:Webinars
ATTACH;FMTTYPE=image/png:https://mailershub.com/wp-content/uploads/2025/07/envelope-dollar-sign.png
END:VEVENT
END:VCALENDAR