BEGIN:VCALENDAR
VERSION:2.0
PRODID:-//Mailers Hub - ECPv6.15.20//NONSGML v1.0//EN
CALSCALE:GREGORIAN
METHOD:PUBLISH
X-WR-CALNAME:Mailers Hub
X-ORIGINAL-URL:https://mailershub.com
X-WR-CALDESC:Events for Mailers Hub
REFRESH-INTERVAL;VALUE=DURATION:PT1H
X-Robots-Tag:noindex
X-PUBLISHED-TTL:PT1H
BEGIN:VTIMEZONE
TZID:America/New_York
BEGIN:DAYLIGHT
TZOFFSETFROM:-0500
TZOFFSETTO:-0400
TZNAME:EDT
DTSTART:20240310T070000
END:DAYLIGHT
BEGIN:STANDARD
TZOFFSETFROM:-0400
TZOFFSETTO:-0500
TZNAME:EST
DTSTART:20241103T060000
END:STANDARD
BEGIN:DAYLIGHT
TZOFFSETFROM:-0500
TZOFFSETTO:-0400
TZNAME:EDT
DTSTART:20250309T070000
END:DAYLIGHT
BEGIN:STANDARD
TZOFFSETFROM:-0400
TZOFFSETTO:-0500
TZNAME:EST
DTSTART:20251102T060000
END:STANDARD
BEGIN:DAYLIGHT
TZOFFSETFROM:-0500
TZOFFSETTO:-0400
TZNAME:EDT
DTSTART:20260308T070000
END:DAYLIGHT
BEGIN:STANDARD
TZOFFSETFROM:-0400
TZOFFSETTO:-0500
TZNAME:EST
DTSTART:20261101T060000
END:STANDARD
END:VTIMEZONE
BEGIN:VEVENT
DTSTART;TZID=America/New_York:20250712T080000
DTEND;TZID=America/New_York:20250716T170000
DTSTAMP:20260423T001009
CREATED:20250513T164400Z
LAST-MODIFIED:20250513T164403Z
UID:3763-1752307200-1752685200@mailershub.com
SUMMARY:NACUMS Annual Conference
DESCRIPTION:Be sure to check out Leo Raymond’s session on Monday\, July 14\, at 3:30 pm\, and to swing by the Mailers Hub booth in the vendor partner hall! CLICK HERE to view the full brochure. Interested in sponsoring or participating as a business partner? CLICK HERE. \n\n\n\n \n\n\n\n“We are thrilled to invite you to the 2025 NACUMS Conference\, taking place from July 12th to 16th\, 2025\, in the vibrant city of Louisville\, Kentucky. This year’s theme\, “From the Starting Gate to the Finish Line\,” promises an exhilarating journey of professional growth and networking. \n\n\n\nThe NACUMS Conference offers an enriching experience where you can: \n\n\n\n\nConnect with peers: Build lasting relationships with colleagues from across the country.\n\n\n\nParticipate in educational sessions: Broaden your professional knowledge with sessions led by industry experts.\n\n\n\nEngage with valued business partners: Discover the latest industry trends and innovations.\n\n\n\nExpand your network: Meet new colleagues and exchange ideas to enhance your operations.\n\n\n\nExplore Louisville: With a booming bourbon renaissance\, iconic attractions\, and a renowned culinary scene\, Louisville is an experience like no other city!\n\n\n\n\nRegistration is now live! We encourage you to secure your spot and take advantage of early bird discounts! Check back for updates on educational sessions\, certification opportunities and to delve deeper into what Louisville has to offer! \n\n\n\nWe look forward to seeing you in Louisville! \n\n\n\n– NACUMS Conference Committee”
URL:https://mailershub.com/event/nacums-annual-conference-2/
CATEGORIES:Conferences,Industry Events
ATTACH;FMTTYPE=image/png:https://mailershub.com/wp-content/uploads/2025/05/logo-from-site.png
END:VEVENT
BEGIN:VEVENT
DTSTART;TZID=America/New_York:20250717T130000
DTEND;TZID=America/New_York:20250717T140000
DTSTAMP:20260423T001009
CREATED:20250714T194237Z
LAST-MODIFIED:20250714T201539Z
UID:3937-1752757200-1752760800@mailershub.com
SUMMARY:State Income Tax for Direct Mailers
DESCRIPTION:If you thought income tax was just a numbers game\, think again. States are getting creative (and assertive) with how they decide what slice of your income they get to tax\, and the rules are changing fast. Martin Eisenstein and Jamie Szal\, partners at our counsel\, Brann & Isaacson\, are back to shed light on the ins and outs of state income tax for direct mailers. They will discuss the issues and opportunities in this area\, including nexus\, separate vs. combined reporting\, sourcing\, and throwback/throwout rules. This webinar will also unpack the sneaky way some states are applying sales-tax-style logic to income tax\, and how that could put long-standing federal protections (hello\, P.L. 86-272) at risk. It’s tax talk\, but for mailers—and yes\, we’ll keep it lively. \n\n\n\n \n\n\n\n\nSubscriber Registration(Login Required)\n\n\n\nNon-SubscriberRegistration
URL:https://mailershub.com/event/state-income-tax-for-direct-mailers/
CATEGORIES:Webinars
END:VEVENT
END:VCALENDAR