BEGIN:VCALENDAR
VERSION:2.0
PRODID:-//Mailers Hub - ECPv6.15.20//NONSGML v1.0//EN
CALSCALE:GREGORIAN
METHOD:PUBLISH
X-WR-CALNAME:Mailers Hub
X-ORIGINAL-URL:https://mailershub.com
X-WR-CALDESC:Events for Mailers Hub
REFRESH-INTERVAL;VALUE=DURATION:PT1H
X-Robots-Tag:noindex
X-PUBLISHED-TTL:PT1H
BEGIN:VTIMEZONE
TZID:America/New_York
BEGIN:DAYLIGHT
TZOFFSETFROM:-0500
TZOFFSETTO:-0400
TZNAME:EDT
DTSTART:20240310T070000
END:DAYLIGHT
BEGIN:STANDARD
TZOFFSETFROM:-0400
TZOFFSETTO:-0500
TZNAME:EST
DTSTART:20241103T060000
END:STANDARD
BEGIN:DAYLIGHT
TZOFFSETFROM:-0500
TZOFFSETTO:-0400
TZNAME:EDT
DTSTART:20250309T070000
END:DAYLIGHT
BEGIN:STANDARD
TZOFFSETFROM:-0400
TZOFFSETTO:-0500
TZNAME:EST
DTSTART:20251102T060000
END:STANDARD
BEGIN:DAYLIGHT
TZOFFSETFROM:-0500
TZOFFSETTO:-0400
TZNAME:EDT
DTSTART:20260308T070000
END:DAYLIGHT
BEGIN:STANDARD
TZOFFSETFROM:-0400
TZOFFSETTO:-0500
TZNAME:EST
DTSTART:20261101T060000
END:STANDARD
END:VTIMEZONE
BEGIN:VEVENT
DTSTART;TZID=America/New_York:20250313T130000
DTEND;TZID=America/New_York:20250313T140000
DTSTAMP:20260425T062321
CREATED:20250304T205839Z
LAST-MODIFIED:20250304T205843Z
UID:3587-1741870800-1741874400@mailershub.com
SUMMARY:Unlock the Power of Informed Delivery
DESCRIPTION:Calling all Marketing & USPS Mailing Professionals! Ready to elevate your direct mail strategy? Join us for an exciting and informative webinar where we’ll dive into the latest updates on USPS Informed \n\n\n\nWhy You Should Attend:✅ Learn how Informed Delivery can boost response rates and ROI✅ Discover best practices for creating interactive\, trackable mail campaigns✅ Gain inspiration from real-world success stories and expert insightsDelivery—an innovative tool that connects physical mail with digital engagement. \n\n\n\nHost Lori Joyner-Swetlin\, a USPS mail expert dedicated to making your mail impactful! An industry leader who knows how to harness USPS mailing data for marketing success.Whether you’re new to Informed Delivery or seeking fresh strategies\, this webinar is packed with actionable insights you won’t want to miss. \n\n\n\n \n\n\n\n\nSubscriber Registration(Log In Required)\n\n\n\nNon-SubscriberRegistration
URL:https://mailershub.com/event/unlock-the-power-of-informed-delivery/
CATEGORIES:Webinars
END:VEVENT
BEGIN:VEVENT
DTSTART;TZID=America/New_York:20250328T080000
DTEND;TZID=America/New_York:20250330T170000
DTSTAMP:20260425T062321
CREATED:20240912T183350Z
LAST-MODIFIED:20240912T183356Z
UID:3195-1743148800-1743354000@mailershub.com
SUMMARY:The MFSA Annual Conference
DESCRIPTION:Join us for “The Next Chapter”! Watch TheMFSA.org for more details.  \n\n\n\nPreconference golf outing March 27\, conference March 28-30\, 2025. Detailed schedule and registration will be announced later this year.
URL:https://mailershub.com/event/the-mfsa-annual-conference-2/
LOCATION:Hilton DFW Lakes Executive Conference Center\, 1800 Highway 26 East\, Grapevine\, Texas\, 76051\, United States
END:VEVENT
END:VCALENDAR