BEGIN:VCALENDAR
VERSION:2.0
PRODID:-//Mailers Hub - ECPv6.15.20//NONSGML v1.0//EN
CALSCALE:GREGORIAN
METHOD:PUBLISH
X-WR-CALNAME:Mailers Hub
X-ORIGINAL-URL:https://mailershub.com
X-WR-CALDESC:Events for Mailers Hub
REFRESH-INTERVAL;VALUE=DURATION:PT1H
X-Robots-Tag:noindex
X-PUBLISHED-TTL:PT1H
BEGIN:VTIMEZONE
TZID:America/New_York
BEGIN:DAYLIGHT
TZOFFSETFROM:-0500
TZOFFSETTO:-0400
TZNAME:EDT
DTSTART:20210314T070000
END:DAYLIGHT
BEGIN:STANDARD
TZOFFSETFROM:-0400
TZOFFSETTO:-0500
TZNAME:EST
DTSTART:20211107T060000
END:STANDARD
BEGIN:DAYLIGHT
TZOFFSETFROM:-0500
TZOFFSETTO:-0400
TZNAME:EDT
DTSTART:20220313T070000
END:DAYLIGHT
BEGIN:STANDARD
TZOFFSETFROM:-0400
TZOFFSETTO:-0500
TZNAME:EST
DTSTART:20221106T060000
END:STANDARD
BEGIN:DAYLIGHT
TZOFFSETFROM:-0500
TZOFFSETTO:-0400
TZNAME:EDT
DTSTART:20230312T070000
END:DAYLIGHT
BEGIN:STANDARD
TZOFFSETFROM:-0400
TZOFFSETTO:-0500
TZNAME:EST
DTSTART:20231105T060000
END:STANDARD
END:VTIMEZONE
BEGIN:VEVENT
DTSTART;TZID=America/New_York:20221025T120000
DTEND;TZID=America/New_York:20221026T170000
DTSTAMP:20260423T013711
CREATED:20221021T213159Z
LAST-MODIFIED:20221021T213218Z
UID:802-1666699200-1666803600@mailershub.com
SUMMARY:MTAC
DESCRIPTION:
URL:https://mailershub.com/event/mtac/
CATEGORIES:MTAC
ATTACH;FMTTYPE=image/png:https://mailershub.com/wp-content/uploads/2022/10/mtac.png
END:VEVENT
BEGIN:VEVENT
DTSTART;VALUE=DATE:20221017
DTEND;VALUE=DATE:20221018
DTSTAMP:20260423T013711
CREATED:20221013T170356Z
LAST-MODIFIED:20221013T204147Z
UID:333-1665964800-1666051199@mailershub.com
SUMMARY:Soft launch for new site
DESCRIPTION:New MH Page to softlaunch
URL:https://mailershub.com/event/soft-launch-for-new-site/
CATEGORIES:General
ORGANIZER;CN="Mailers Hub":MAILTO:info@mailershub.com
END:VEVENT
BEGIN:VEVENT
DTSTART;VALUE=DATE:20221017
DTEND;VALUE=DATE:20221018
DTSTAMP:20260423T013711
CREATED:20221013T164608Z
LAST-MODIFIED:20221013T204147Z
UID:331-1665964800-1666051199@mailershub.com
SUMMARY:New Website Soft Launch
DESCRIPTION:
URL:https://mailershub.com/event/new-website-soft-launch/
CATEGORIES:General
ORGANIZER;CN="Mailers Hub":MAILTO:info@mailershub.com
END:VEVENT
END:VCALENDAR