BEGIN:VCALENDAR
VERSION:2.0
PRODID:-//Mailers Hub - ECPv6.15.20//NONSGML v1.0//EN
CALSCALE:GREGORIAN
METHOD:PUBLISH
X-WR-CALNAME:Mailers Hub
X-ORIGINAL-URL:https://mailershub.com
X-WR-CALDESC:Events for Mailers Hub
REFRESH-INTERVAL;VALUE=DURATION:PT1H
X-Robots-Tag:noindex
X-PUBLISHED-TTL:PT1H
BEGIN:VTIMEZONE
TZID:America/New_York
BEGIN:DAYLIGHT
TZOFFSETFROM:-0500
TZOFFSETTO:-0400
TZNAME:EDT
DTSTART:20210314T070000
END:DAYLIGHT
BEGIN:STANDARD
TZOFFSETFROM:-0400
TZOFFSETTO:-0500
TZNAME:EST
DTSTART:20211107T060000
END:STANDARD
BEGIN:DAYLIGHT
TZOFFSETFROM:-0500
TZOFFSETTO:-0400
TZNAME:EDT
DTSTART:20220313T070000
END:DAYLIGHT
BEGIN:STANDARD
TZOFFSETFROM:-0400
TZOFFSETTO:-0500
TZNAME:EST
DTSTART:20221106T060000
END:STANDARD
BEGIN:DAYLIGHT
TZOFFSETFROM:-0500
TZOFFSETTO:-0400
TZNAME:EDT
DTSTART:20230312T070000
END:DAYLIGHT
BEGIN:STANDARD
TZOFFSETFROM:-0400
TZOFFSETTO:-0500
TZNAME:EST
DTSTART:20231105T060000
END:STANDARD
BEGIN:DAYLIGHT
TZOFFSETFROM:-0500
TZOFFSETTO:-0400
TZNAME:EDT
DTSTART:20240310T070000
END:DAYLIGHT
BEGIN:STANDARD
TZOFFSETFROM:-0400
TZOFFSETTO:-0500
TZNAME:EST
DTSTART:20241103T060000
END:STANDARD
BEGIN:DAYLIGHT
TZOFFSETFROM:-0500
TZOFFSETTO:-0400
TZNAME:EDT
DTSTART:20250309T070000
END:DAYLIGHT
BEGIN:STANDARD
TZOFFSETFROM:-0400
TZOFFSETTO:-0500
TZNAME:EST
DTSTART:20251102T060000
END:STANDARD
END:VTIMEZONE
BEGIN:VEVENT
DTSTART;TZID=America/New_York:20240305T130000
DTEND;TZID=America/New_York:20240305T170000
DTSTAMP:20260422T231512
CREATED:20240202T002404Z
LAST-MODIFIED:20240202T002406Z
UID:2313-1709643600-1709658000@mailershub.com
SUMMARY:USPS Network Changes\, and a Peek at Promos
DESCRIPTION:Presented by Tom Glassman\, Ricoh-USA; Deb Damore\, Enru; Tom Foti\, USPS (we will be announcing a new presenter shortly)
URL:https://mailershub.com/event/usps-network-changes-and-a-peek-at-promos/
LOCATION:Nevada
CATEGORIES:Webinars
ATTACH;FMTTYPE=image/png:https://mailershub.com/wp-content/uploads/2024/02/Mar-5.png
ORGANIZER;CN="Mailers Hub":MAILTO:info@mailershub.com
END:VEVENT
BEGIN:VEVENT
DTSTART;TZID=America/New_York:20240213T130000
DTEND;TZID=America/New_York:20240213T140000
DTSTAMP:20260422T231512
CREATED:20240116T233704Z
LAST-MODIFIED:20240116T233708Z
UID:2254-1707829200-1707832800@mailershub.com
SUMMARY:2024's New Legal Pitfalls
DESCRIPTION:Presented by Brann & Isaacson\, and touched on in the January 16 webinar “What’s On The Radar In 2024?”\, Marty Eisenstein\, Jamie Szal\, and associates will dig into three major legal issues that you and your company need to be on top NOW. These include the new “Corporate Transparency” law and “Illinois Consumer Fraud and Deceptive Practices Act”\, as well as updates to the State Use and Sales Tax laws.Don’t miss this FREE opportunity to ask questions\, stay informed\, and stay out of trouble. Register today!
URL:https://mailershub.com/event/2024s-new-legal-pitfalls/
LOCATION:Nevada
CATEGORIES:Webinars
ATTACH;FMTTYPE=image/jpeg:https://mailershub.com/wp-content/uploads/2024/01/legal-pitfall-help.jpg
ORGANIZER;CN="Mailers Hub":MAILTO:info@mailershub.com
END:VEVENT
BEGIN:VEVENT
DTSTART;TZID=America/New_York:20240208T080000
DTEND;TZID=America/New_York:20240209T130000
DTSTAMP:20260422T231512
CREATED:20231230T190524Z
LAST-MODIFIED:20231230T190527Z
UID:2153-1707379200-1707483600@mailershub.com
SUMMARY:DTAC
DESCRIPTION:Our DTAC Winter Meeting will be held at the Bellwether Beach Resort in St. Pete’s Beach on February 8-9\, 2024.   \n\n\n\nAgenda: Meetings will be held from 8:30 am – 4:30 pm on Thursday\, February 8th and 8:30 am – 1pm on Friday\, February 9th. \n\n\n\nWe have arranged a tour of Valpak’s Manufacturing Facility in St. Petersburg on Wednesday\, February 7th at 2 pm.  This is optional and we will encourage carpooling between attendees.  If you are interested in doing the tour – please RSVP with Ellena Talbott.  \n\n\n\nHotel Rooms:  We have negotiated a group rate starting at $249 a night.  The rate can be extended through the weekend\, subject to availability.  To book visit: Bellweather Beach Resort  \n\n\n\nRegistration: DTAC Members are complimentary.  Non-members and Mail.dat licensees are asked to pay $250.  Registration is available here. 
URL:https://mailershub.com/event/dtac/
LOCATION:Bellweather Beach Resort\, 5250 Gulf Blvd.\, St. Pete Beach\, Florida\, 33706\, United States
CATEGORIES:DTAC
ATTACH;FMTTYPE=image/jpeg:https://mailershub.com/wp-content/uploads/2023/12/DTACLogo_FINAL_CMYK_LOGOTAG-scaled.jpg
END:VEVENT
BEGIN:VEVENT
DTSTART;TZID=America/New_York:20240123T080000
DTEND;TZID=America/New_York:20240124T170000
DTSTAMP:20260422T231512
CREATED:20231230T185817Z
LAST-MODIFIED:20231230T185820Z
UID:2147-1705996800-1706115600@mailershub.com
SUMMARY:MTAC
DESCRIPTION:Quarterly Mailers Technical Advisory Committee meeting. The Postmaster General’s Mailers Technical Advisory Committee (MTAC) is a venue for the United States Postal Service (Postal Service) to share technical information with mailers\, and to receive their advice and recommendations on matters concerning mail-related products and services\, in order to enhance customer value and expand the use of these products and services for the mutual benefit of Mailing Industry stakeholders and the Postal Service. \n\n\n\nYour Mailers Hub MTAC representatives are:– Leo Raymond\, Mailers Hub– Lisa Bowes\, Snailworks– Tom Glassman\, Ricoh-USA– Bill Sloyan\, Freedom Graphics
URL:https://mailershub.com/event/mtac-2/
LOCATION:USPS Headquarters\, 475 L'Enfant Plaza\, Washington\, DC\, District of Columbia\, 20260-0004\, United States
CATEGORIES:Industry Events,MTAC
ATTACH;FMTTYPE=image/png:https://mailershub.com/wp-content/uploads/2022/10/mtac.png
END:VEVENT
BEGIN:VEVENT
DTSTART;TZID=America/New_York:20240116T130000
DTEND;TZID=America/New_York:20240116T140000
DTSTAMP:20260422T231512
CREATED:20240101T203522Z
LAST-MODIFIED:20240101T204911Z
UID:2204-1705410000-1705413600@mailershub.com
SUMMARY:What's On the Radar For 2024?
DESCRIPTION:It’s a new year\, with new opportunities and challenges ahead. This panel discussion\, via webinar\, with Mailers Hub experts will outline the issues we believe will be an important part of your 2024 business planning.Looking ahead\, we’ll discuss potential roadblocks to overcome\, opportunities that could benefit your business with the proper preparation\, as well as ongoing industry issues that will remain top of mind\, and be critical to your success. Plenty of time will be allowed for Q&A\, as well as for feedback to let us know how we can support your business in 2024.
URL:https://mailershub.com/event/whats-on-the-radar-for-2024/
LOCATION:Nevada
CATEGORIES:Webinars
ATTACH;FMTTYPE=image/jpeg:https://mailershub.com/wp-content/uploads/2024/01/ICO_IM_11_23_groc.jpg
ORGANIZER;CN="Mailers Hub":MAILTO:info@mailershub.com
END:VEVENT
BEGIN:VEVENT
DTSTART;TZID=America/New_York:20240111T110000
DTEND;TZID=America/New_York:20240111T140000
DTSTAMP:20260422T231512
CREATED:20231230T184314Z
LAST-MODIFIED:20231230T184318Z
UID:2140-1704970800-1704981600@mailershub.com
SUMMARY:Santa Ana PCC Lunch and Learn
DESCRIPTION:January 11\, 2024\, PCC Lunch and Learn – Seating is limited to the first 80 people to register.  \n\n\n\nAgenda– 11 am badge pickup/ onsite registration open– 11:30 am lunch– Noon to 1 pm Leo Raymond presentation– 1 pm to 2 pm Tours of the Dot facility \n\n\n\nLeo Raymond is our speaker. He will talk about these bullet points: \n\n\n\n\nJanuary Rate Change\n\n\n\nWhat to expect 2024\n\n\n\nOther USPS changes\n\n\n\n\nSpecial thank you to Whittier Mailing Products for sponsoring and flying in Leo Raymond \n\n\n\nThis event will be co-hosted with the Printing Industries Association of Southern California 
URL:https://mailershub.com/event/santa-ana-pcc-lunch-and-learn/
LOCATION:The Dot\, 9700 Toledo Way\, Irvine\, California\, 92618\, United States
CATEGORIES:Industry Events,PCC
ATTACH;FMTTYPE=image/jpeg:https://mailershub.com/wp-content/uploads/2023/12/Santa-Ana-lunch-jan-11.jpg
END:VEVENT
BEGIN:VEVENT
DTSTART;TZID=America/New_York:20231205T130000
DTEND;TZID=America/New_York:20231205T140000
DTSTAMP:20260422T231512
CREATED:20231017T234037Z
LAST-MODIFIED:20231017T234040Z
UID:2021-1701781200-1701784800@mailershub.com
SUMMARY:No More Postal Paperwork!
DESCRIPTION:That is correct! No more paper mail acceptance forms\, the USPS is going 100% digital in February 2024. Paper forms 3600\, and 3602 will not be accepted anymore. Acceptance must be digital; mail.dat\, mail xml\, postal wizard\, or small business tool. Are you ready?Presented by Tom Glassman\, Ricoh USA\, and Kristen McKiernan\, Accuzip
URL:https://mailershub.com/event/no-more-postal-paperwork-2/
LOCATION:Nevada
CATEGORIES:Webinars
ATTACH;FMTTYPE=image/jpeg:https://mailershub.com/wp-content/uploads/2023/10/paperwork.jpg
ORGANIZER;CN="Mailers Hub":MAILTO:info@mailershub.com
END:VEVENT
BEGIN:VEVENT
DTSTART;TZID=America/New_York:20231107T130000
DTEND;TZID=America/New_York:20231107T140000
DTSTAMP:20260422T231512
CREATED:20231017T233544Z
LAST-MODIFIED:20231017T234343Z
UID:2019-1699362000-1699365600@mailershub.com
SUMMARY:Address Hygiene
DESCRIPTION:Presented by Tom Glassman
URL:https://mailershub.com/event/address-hygiene/
LOCATION:Nevada
CATEGORIES:Webinars
ATTACH;FMTTYPE=image/jpeg:https://mailershub.com/wp-content/uploads/2023/10/email-list-hygiene_min.jpg
ORGANIZER;CN="Mailers Hub":MAILTO:info@mailershub.com
END:VEVENT
BEGIN:VEVENT
DTSTART;TZID=America/New_York:20231024T130000
DTEND;TZID=America/New_York:20231024T140000
DTSTAMP:20260422T231512
CREATED:20230801T235715Z
LAST-MODIFIED:20231023T131457Z
UID:1908-1698152400-1698156000@mailershub.com
SUMMARY:THE USPS Rate Case
DESCRIPTION:Join us as industry expert Leo Raymond and USPS VP\, Pricing and Costing\, Sharon Owens walk us through the proposed rate changes presented to the PRC. This marks the sixth Rate Case since 2021 – no longer are the rates themselves the only issue\, but the issues arising from trying to implement the changes industry-wide in half the time. There will be plenty to discuss\, and many questions to ask.
URL:https://mailershub.com/event/the-usps-rate-case/
LOCATION:Nevada
CATEGORIES:Webinars
ATTACH;FMTTYPE=image/jpeg:https://mailershub.com/wp-content/uploads/2023/08/Rising-cost-of-United-States-Postage.jpg
ORGANIZER;CN="Mailers Hub":MAILTO:info@mailershub.com
END:VEVENT
BEGIN:VEVENT
DTSTART;TZID=America/New_York:20230919T143000
DTEND;TZID=America/New_York:20230919T153000
DTSTAMP:20260422T231512
CREATED:20230801T232903Z
LAST-MODIFIED:20230912T220406Z
UID:1905-1695133800-1695137400@mailershub.com
SUMMARY:No More Postal Paperwork! Updated Date and Time
DESCRIPTION:That is correct! The USPS will go 100% Digital in February of 2024. No more paper mail acceptance forms. Paper forms 3600\, and 3602 will not be accepted anymore.Acceptance must be digital; mail.dat\, mail .xml\, postal wizard\, or small business tool. Are you ready? Presented by Tom Glassman\, Ricoh USA. (Please note – registrations for the original date and time have automatically been added to the newly scheduled date and time.)
URL:https://mailershub.com/event/no-more-postal-paperwork/
LOCATION:Nevada
CATEGORIES:Webinars
ATTACH;FMTTYPE=image/png:https://mailershub.com/wp-content/uploads/2023/08/bcg-1.png
ORGANIZER;CN="Mailers Hub":MAILTO:info@mailershub.com
END:VEVENT
BEGIN:VEVENT
DTSTART;TZID=America/New_York:20230822T130000
DTEND;TZID=America/New_York:20230822T140000
DTSTAMP:20260422T231512
CREATED:20230801T232024Z
LAST-MODIFIED:20230801T232027Z
UID:1903-1692709200-1692712800@mailershub.com
SUMMARY:Intellectual Property
DESCRIPTION:Copyright. Trademark. Patent. Trade Secrets. Intellectual property\, also known as IP\, impacts more of your business than you may realize. Niche aspects of intellectual property law can trip up those who do work for business clients. The negative consequences of not understanding the work-for-hire doctrine\, or not choosing and using distinctive words\, symbols\, and images in a source-identifying fashion for design work\, can be substantial and can result in the loss of intellectual property rights.Your Intellectual Property is just as important an asset as any other and is part of what distinguishes you from the competition. Join us as we host Brann & Isaacson to help us understand and manage the world of Intellectual Property rights.
URL:https://mailershub.com/event/intellectual-property/
LOCATION:Nevada
CATEGORIES:Webinars
ATTACH;FMTTYPE=image/png:https://mailershub.com/wp-content/uploads/2023/07/tmcopyrightwpblog.png
ORGANIZER;CN="Mailers Hub":MAILTO:info@mailershub.com
END:VEVENT
BEGIN:VEVENT
DTSTART;TZID=America/New_York:20230620T130000
DTEND;TZID=America/New_York:20230620T140000
DTSTAMP:20260422T231512
CREATED:20230227T183400Z
LAST-MODIFIED:20230404T135655Z
UID:1547-1687266000-1687269600@mailershub.com
SUMMARY:Direct Mail: Advanced
DESCRIPTION:This a condensed version of the same advanced course we presented at The National Postal Forum\, and an excellent refresher for those interested in our on-demand “USPS Advanced Mailing Standards” course. This 45-minute webinar is perfect for every commercial mailer and will include a 20-minute Q&A.
URL:https://mailershub.com/event/direct-mail-advanced/
LOCATION:Nevada
CATEGORIES:Webinars
ATTACH;FMTTYPE=image/webp:https://mailershub.com/wp-content/uploads/2023/02/Graphic.webp
ORGANIZER;CN="Mailers Hub":MAILTO:info@mailershub.com
END:VEVENT
BEGIN:VEVENT
DTSTART;TZID=America/New_York:20230516T130000
DTEND;TZID=America/New_York:20230516T140000
DTSTAMP:20260422T231512
CREATED:20230227T182551Z
LAST-MODIFIED:20230403T221555Z
UID:1545-1684242000-1684245600@mailershub.com
SUMMARY:International Mail
DESCRIPTION:The USPS delivers to over 180 countries and each have unique rules and regulations. Join us as Merry Law of WorldVu LL\,C reviews current state of International Mail including logistics issues\, governmental and administrative changes and updates on addressing requirements.
URL:https://mailershub.com/event/international-mail/
LOCATION:Nevada
CATEGORIES:Webinars
ATTACH;FMTTYPE=image/jpeg:https://mailershub.com/wp-content/uploads/2023/02/Overhead-view-of-an-international-letter-on-a-map-1500x630-1.jpg
ORGANIZER;CN="Mailers Hub":MAILTO:info@mailershub.com
END:VEVENT
BEGIN:VEVENT
DTSTART;TZID=America/New_York:20230511T130000
DTEND;TZID=America/New_York:20230511T140000
DTSTAMP:20260422T231512
CREATED:20230403T223106Z
LAST-MODIFIED:20230404T174951Z
UID:1641-1683810000-1683813600@mailershub.com
SUMMARY:State & Sales Taxes: A Deeper Dive (Pt. 3)
DESCRIPTION:UPDATE: PLEASE NOTE THE NEW DATE OF THE THIRD SESSION\, MAY 11. Part of a three-part webinar series. See below for details
URL:https://mailershub.com/event/state-sales-taxes-a-deeper-dive-pt-3/
LOCATION:Nevada
CATEGORIES:Webinars
ATTACH;FMTTYPE=image/jpeg:https://mailershub.com/wp-content/uploads/2023/04/iStock-931522704.jpg
END:VEVENT
BEGIN:VEVENT
DTSTART;TZID=America/New_York:20230427T130000
DTEND;TZID=America/New_York:20230427T140000
DTSTAMP:20260422T231512
CREATED:20230403T222846Z
LAST-MODIFIED:20230404T132543Z
UID:1638-1682600400-1682604000@mailershub.com
SUMMARY:State & Sales Taxes: A Deeper Dive (Pt. 2)
DESCRIPTION:Please see April 20 for more information\, or click below. (If you have already registered for one session\, you do not need to register again for Pt. 2 and/or 3. Each registration includes all three sessions)
URL:https://mailershub.com/event/state-sales-taxes-a-deeper-dive-pt-2/
LOCATION:Nevada
CATEGORIES:Webinars
ATTACH;FMTTYPE=image/jpeg:https://mailershub.com/wp-content/uploads/2023/04/iStock-931522704.jpg
END:VEVENT
BEGIN:VEVENT
DTSTART;TZID=America/New_York:20230420T130000
DTEND;TZID=America/New_York:20230420T140000
DTSTAMP:20260422T231512
CREATED:20230403T222417Z
LAST-MODIFIED:20230404T132501Z
UID:1634-1681995600-1681999200@mailershub.com
SUMMARY:State & Sales Taxes: A Deeper Dive (Pt. 1)
DESCRIPTION:On February 21\, in their webinar\, the “Bad News About Sales: Tax Man Cometh\,”  lawyers Martin Eisenstein and Jamie Szal of Brann & Isaacson\, the Mailers Hub-recommended law firm\, cautioned close to 100 attendees – from direct mail producers and other companies – of the threat of state sales taxes and other taxes pose that they may unknowingly be exposed to.  \n\n\n\nIn response to the numerous questions posed during this session and the concerns raised\, Mr. Eisenstein and his team will be following up with a three-part series\, “State and Sales Taxes: A Deep Dive“. Over the course of these three webinars\, Brann & Isaacson lawyers will address the aspects of possible tax exposure your company faces\, how to minimize these factors\, and how to do it BEFORE a state tax agency comes knocking asking for money\, or worse yet\, an audit. This webinar series will be a critical source of information for you and your staff for avoiding the uncomfortable and expensive tax pitfalls waiting for you in the course of conducting your day-to-day business.  \n\n\n\n(Note: Registration includes all three sessions)
URL:https://mailershub.com/event/state-sales-taxes-a-deeper-dive-pt-1/
LOCATION:Nevada
ATTACH;FMTTYPE=image/jpeg:https://mailershub.com/wp-content/uploads/2023/04/iStock-931522704.jpg
ORGANIZER;CN="Mailers Hub":MAILTO:info@mailershub.com
END:VEVENT
BEGIN:VEVENT
DTSTART;TZID=America/New_York:20230418T130000
DTEND;TZID=America/New_York:20230418T140000
DTSTAMP:20260422T231512
CREATED:20230227T182137Z
LAST-MODIFIED:20230410T173227Z
UID:1543-1681822800-1681826400@mailershub.com
SUMMARY:The Postal Rate Case
DESCRIPTION:The USPS filed its latest rate case on Monday\, April 10\, 2023. How will this next round of rate hikes affect you and your customers? Leo Raymond will be joined by Sharon Owens\, USPS VP\, Pricing & Costing to expand on the changes\, explain how they’ll affect you\, and answer your questions. Registration is FREE to all! (Recording access available to Mailers Hub subscribers within 48 hours.)  \n\n\n\nWant to dig into the details before the webinar? The latest issue of Mailers Hub News includes Leo’s comprehensive rate filing breakdown. Mailers Hub subscribers can review it here.
URL:https://mailershub.com/event/the-postal-rate-case/
LOCATION:Nevada
CATEGORIES:Webinars
ATTACH;FMTTYPE=image/jpeg:https://mailershub.com/wp-content/uploads/2022/12/download-1.jpg
ORGANIZER;CN="Mailers Hub":MAILTO:info@mailershub.com
END:VEVENT
BEGIN:VEVENT
DTSTART;TZID=America/New_York:20230321T130000
DTEND;TZID=America/New_York:20230321T140000
DTSTAMP:20260422T231512
CREATED:20230227T181651Z
LAST-MODIFIED:20230227T181815Z
UID:1541-1679403600-1679407200@mailershub.com
SUMMARY:Direct Mail: The Basics
DESCRIPTION:Mailers Hub is the industry leader in educating commercial mailers across the country. We have taken our on-demand education series “USPS Basic Mailing Standards” and condensed it into a 45-minute webinar/course for the masses. This webinar is for everyone in the commercial mail business. New to the industry or long-timers that need a refresher will benefit from this course. Register today!
URL:https://mailershub.com/event/direct-mail-the-basics/
LOCATION:Nevada
CATEGORIES:Webinars
ORGANIZER;CN="Mailers Hub":MAILTO:info@mailershub.com
END:VEVENT
BEGIN:VEVENT
DTSTART;TZID=America/New_York:20230221T130000
DTEND;TZID=America/New_York:20230221T130000
DTSTAMP:20260422T231512
CREATED:20230111T205722Z
LAST-MODIFIED:20230203T002138Z
UID:1455-1676984400-1676984400@mailershub.com
SUMMARY:Bad News About Sales Tax
DESCRIPTION:As you read in Mailers Hub News\, the taxman is on the prowl.   State tax agencies have begun auditing printers and direct mail producers for use tax even though they don’t step foot in the state.  Our webinar at 1 pm (ET) on February 21 will feature Martin Eisenstein and Jamie Szal from our legal partner Brann & Isaacson.  They will provide the latest news about state sales and use taxes\, including the recent North Carolina Supreme Court decision that will impact future assessment and collection activities.  Don’t be caught unaware of how your mailing activity\, postage payment\, and client billing might be exposing you to tax liability – and maybe not even from your home state!  \n\n\n\nPresented by Brann & Isaacson.
URL:https://mailershub.com/event/bad-news-about-sales-tax/
LOCATION:Nevada
CATEGORIES:Webinars
ATTACH;FMTTYPE=image/png:https://mailershub.com/wp-content/uploads/2023/01/Bad-sales-tax-image.png
ORGANIZER;CN="Mailers Hub":MAILTO:info@mailershub.com
END:VEVENT
BEGIN:VEVENT
DTSTART;TZID=America/New_York:20230117T130000
DTEND;TZID=America/New_York:20230117T140000
DTSTAMP:20260422T231512
CREATED:20221222T190837Z
LAST-MODIFIED:20221228T174026Z
UID:1412-1673960400-1673964000@mailershub.com
SUMMARY:The (More) Current State of Privacy Laws
DESCRIPTION:It’s a new year\, and new privacy laws are emerging across the country.  Commercial mail producers need to understand the latest developments so they and their clients don’t inadvertently run afoul of the requirements and limitations these laws impose.  To keep you informed\, join us on January 17 at 1 pm ET when Stacy O. Stitham and David Swetnam-Burland of Brann & Isaacson update us on what’s changed since we last reviewed the topic in June 2021. \n\n\n\nThe webinar is free; to participate click here and complete the registration\, or click the REGISTER HERE button below.
URL:https://mailershub.com/event/the-more-current-state-of-privacy-laws/
LOCATION:Nevada
CATEGORIES:Webinars
ATTACH;FMTTYPE=image/jpeg:https://mailershub.com/wp-content/uploads/2022/12/privacy-picture.jpg
ORGANIZER;CN="Mailers Hub":MAILTO:info@mailershub.com
END:VEVENT
BEGIN:VEVENT
DTSTART;TZID=America/New_York:20221115T130000
DTEND;TZID=America/New_York:20221115T140000
DTSTAMP:20260422T231512
CREATED:20221007T141844Z
LAST-MODIFIED:20221107T201214Z
UID:223-1668517200-1668520800@mailershub.com
SUMMARY:Trends Affecting International Mail
DESCRIPTION:With more than 220 countries and territories across the globe\, changes are inevitable. Laws and regulations constantly change\, and new ones are often enacted. The last few years brought many changes\, and the changes will continue. Technology will continue to create other advancements. As we look at what is\, and might be\, coming in the next few years\, keep in mind that each country and territory has its own unique laws and regulations\, even within trade blocks like the EU. Join us as our guests Merry Law of WorldVu LLC and Steve Smith of Base 60 Consulting bring us up to date on trends affecting international mail.
URL:https://mailershub.com/event/webinar-international-law/
LOCATION:Nevada
CATEGORIES:Webinars
ATTACH;FMTTYPE=image/png:https://mailershub.com/wp-content/uploads/2022/10/Mailers-Hub-Webinars-e1666385957372.png
ORGANIZER;CN="Mailers Hub":MAILTO:info@mailershub.com
END:VEVENT
BEGIN:VEVENT
DTSTART;TZID=America/New_York:20221101T130000
DTEND;TZID=America/New_York:20221101T140000
DTSTAMP:20260422T231512
CREATED:20221007T140502Z
LAST-MODIFIED:20221021T212545Z
UID:217-1667307600-1667311200@mailershub.com
SUMMARY:Webinar - October Rate Filing
DESCRIPTION:Presented by Sharon Owens\, VP Pricing and Costing
URL:https://mailershub.com/event/webinar-october-rate-filing/
LOCATION:Nevada
CATEGORIES:Webinars
ATTACH;FMTTYPE=image/png:https://mailershub.com/wp-content/uploads/2022/10/Mailers-Hub-Webinars-e1666385957372.png
ORGANIZER;CN="Mailers Hub":MAILTO:info@mailershub.com
END:VEVENT
BEGIN:VEVENT
DTSTART;TZID=America/New_York:20221025T120000
DTEND;TZID=America/New_York:20221026T170000
DTSTAMP:20260422T231512
CREATED:20221021T213159Z
LAST-MODIFIED:20221021T213218Z
UID:802-1666699200-1666803600@mailershub.com
SUMMARY:MTAC
DESCRIPTION:
URL:https://mailershub.com/event/mtac/
LOCATION:Nevada
CATEGORIES:MTAC
ATTACH;FMTTYPE=image/png:https://mailershub.com/wp-content/uploads/2022/10/mtac.png
END:VEVENT
BEGIN:VEVENT
DTSTART;VALUE=DATE:20221017
DTEND;VALUE=DATE:20221018
DTSTAMP:20260422T231512
CREATED:20221013T170356Z
LAST-MODIFIED:20221013T204147Z
UID:333-1665964800-1666051199@mailershub.com
SUMMARY:Soft launch for new site
DESCRIPTION:New MH Page to softlaunch
URL:https://mailershub.com/event/soft-launch-for-new-site/
LOCATION:Nevada
CATEGORIES:General
ORGANIZER;CN="Mailers Hub":MAILTO:info@mailershub.com
END:VEVENT
BEGIN:VEVENT
DTSTART;VALUE=DATE:20221017
DTEND;VALUE=DATE:20221018
DTSTAMP:20260422T231512
CREATED:20221013T164608Z
LAST-MODIFIED:20221013T204147Z
UID:331-1665964800-1666051199@mailershub.com
SUMMARY:New Website Soft Launch
DESCRIPTION:
URL:https://mailershub.com/event/new-website-soft-launch/
LOCATION:Nevada
CATEGORIES:General
ORGANIZER;CN="Mailers Hub":MAILTO:info@mailershub.com
END:VEVENT
END:VCALENDAR