BEGIN:VCALENDAR
VERSION:2.0
PRODID:-//Mailers Hub - ECPv6.15.20//NONSGML v1.0//EN
CALSCALE:GREGORIAN
METHOD:PUBLISH
X-WR-CALNAME:Mailers Hub
X-ORIGINAL-URL:https://mailershub.com
X-WR-CALDESC:Events for Mailers Hub
REFRESH-INTERVAL;VALUE=DURATION:PT1H
X-Robots-Tag:noindex
X-PUBLISHED-TTL:PT1H
BEGIN:VTIMEZONE
TZID:America/New_York
BEGIN:DAYLIGHT
TZOFFSETFROM:-0500
TZOFFSETTO:-0400
TZNAME:EDT
DTSTART:20240310T070000
END:DAYLIGHT
BEGIN:STANDARD
TZOFFSETFROM:-0400
TZOFFSETTO:-0500
TZNAME:EST
DTSTART:20241103T060000
END:STANDARD
BEGIN:DAYLIGHT
TZOFFSETFROM:-0500
TZOFFSETTO:-0400
TZNAME:EDT
DTSTART:20250309T070000
END:DAYLIGHT
BEGIN:STANDARD
TZOFFSETFROM:-0400
TZOFFSETTO:-0500
TZNAME:EST
DTSTART:20251102T060000
END:STANDARD
BEGIN:DAYLIGHT
TZOFFSETFROM:-0500
TZOFFSETTO:-0400
TZNAME:EDT
DTSTART:20260308T070000
END:DAYLIGHT
BEGIN:STANDARD
TZOFFSETFROM:-0400
TZOFFSETTO:-0500
TZNAME:EST
DTSTART:20261101T060000
END:STANDARD
BEGIN:DAYLIGHT
TZOFFSETFROM:-0500
TZOFFSETTO:-0400
TZNAME:EDT
DTSTART:20270314T070000
END:DAYLIGHT
BEGIN:STANDARD
TZOFFSETFROM:-0400
TZOFFSETTO:-0500
TZNAME:EST
DTSTART:20271107T060000
END:STANDARD
END:VTIMEZONE
BEGIN:VEVENT
DTSTART;TZID=America/New_York:20250916T130000
DTEND;TZID=America/New_York:20250924T150000
DTSTAMP:20260423T001221
CREATED:20250731T172746Z
LAST-MODIFIED:20250923T152814Z
UID:4035-1758027600-1758726000@mailershub.com
SUMMARY:Postal Bootcamp
DESCRIPTION:Presented by The Postal Professor\, George Heinrich \n\n\n\nNew dates announced! The next Bootcamp sessions will be October 21\, 22\, 28\, and 29\, 1:00 – 3:00 pm ET. Registration opening soon. \n\n\n\nObtaining postage discounts is becoming more and more complicated. Automation compatibility is the key\, and mail pieces that are designed to comply with postal guidelines\, automated equipment\, and include barcodes achieve improved delivery times and significantly reduced postage costs. \n\n\n\nIndustry statistics show that mail piece designs that are not compatible with automated processing can cause postage costs to double.  This makes it critical to ensure that mail piece designs meet USPS guidelines before ink or toner gets on paper. Everyone involved in the creation of a direct mail piece must have a thorough understanding of USPS regulations and how the USPS processes mail. This is a key factor in obtaining maximum postage discounts and minimum delivery times. \n\n\n\nPostal Bootcamp will provide attendees with the basic knowledge required to assure your customers that they are getting the best value for their postage dollar. This 8-hour class will be presented in four 2-hour sessions over a two-week period. While recordings will be made available\, attending each session live is strongly encouraged. \n\n\n\nSession one will be held August 14\, 15\, 20\, and 21 from 1:00-3:00 PM ET. Session two will be held September 16\, 17\, 23\, and 24 from 1:00-3:00 PM ET. Registration closed\, in sessionSession three\, October 21\, 22\, 28\, 29\, from 1:00 – 3:00 PM ET. Registration includes 8 hours of live bootcamp training\, a PDF of the full course presentation\, a certificate of completion\, and recording access for two weeks following the session. \n\n\n\nPricing for each session:For subscribers\, the cost is $419 for the first attendee\, $179 for each additional attendee per session.For non-subscribers\, the cost is $699 for the first attendee\, $299 for each additional attendee per session.Each attendee will require a unique email to register\, attend\, receive course materials\, and receive certification after the course. Cancellations must be received 72 hours prior to the start of the session. Substitutions are allowed up to 1 hour before the start of the session. Registration changes will not be permitted after each session begins. No shows will not be refunded. \n\n\n\nSome of the topics include: \n\n\n\n\nUSPS promotions\n\n\n\nOop$\, Goof$ and Flub$\n\n\n\nHow the USPS Functions\n\n\n\nSpeaking Postal\n\n\n\nRetail vs. Discounted\n\n\n\nClasses of Mail\n\n\n\nShape Based Processing\n\n\n\nQuality Addressing\n\n\n\nBarcodes and Machinability\n\n\n\nTabbing Folded Self-Mailers\n\n\n\nData Management\n\n\n\nHow Presort Works\n\n\n\nTransportation Discounts\n\n\n\n\n \n\n\n\n\nSubscriber Registration(Log-in Required)\n\n\n\nNon-SubscriberRegistration
URL:https://mailershub.com/event/postal-bootcamp-2/
END:VEVENT
BEGIN:VEVENT
DTSTART;TZID=America/New_York:20250925T130000
DTEND;TZID=America/New_York:20250925T140000
DTSTAMP:20260423T001221
CREATED:20250922T184205Z
LAST-MODIFIED:20250923T191804Z
UID:4216-1758805200-1758808800@mailershub.com
SUMMARY:From Problem to Profit: How Commercial Mailers Are Automating Workflows to Cut Costs
DESCRIPTION:Presented by Bernard Fedor and Jean Renier\, Assurety Consulting \n\n\n\n \n\n\n\nWorkflow is a place where costs hide.  Eliminating steps\, or making steps more efficient can help complete jobs faster and at a lower cost.  Automating workflow is the objective\, but not one that’s always easy to reach.  For some ideas\, join us Thursday for our free webinar From Problem to Profit: How Commercial Mailers Are Automating Workflows to Cut Costs\, presented by Jean Renier and Bernie Fedor from our sponsor Assurety Consulting.
URL:https://mailershub.com/event/from-problem-to-profit-how-commercial-mailers-are-automating-workflows-to-cut-costs/
CATEGORIES:Webinars
ATTACH;FMTTYPE=image/png:https://mailershub.com/wp-content/uploads/2025/09/blue-image-cropped.png
ORGANIZER;CN="Mailers Hub":MAILTO:info@mailershub.com
END:VEVENT
BEGIN:VEVENT
DTSTART;TZID=America/New_York:20251016T130000
DTEND;TZID=America/New_York:20251016T140000
DTSTAMP:20260423T001221
CREATED:20251016T024228Z
LAST-MODIFIED:20251016T024231Z
UID:4269-1760619600-1760623200@mailershub.com
SUMMARY:USPS Outlook: Future Rate Changes
DESCRIPTION:Presented by Sharon Owens\, Vice President\, Pricing and Costing\, USPS \n\n\n\nThe good news is that there won’t be a price increase in January\, but the bad news is that there will be one in July 2026.  There were structural changes that had been planned for January as well\, and those – plus others – may now be happening in July.  The best person to speak about this is Sharon Owens\, USPS VP for Pricing and Costing\, who will be speaking on our webinar this Thursday at 1pm.  To learn what’s ahead\, register for the webinar now.
URL:https://mailershub.com/event/usps-outlook-future-rate-changes/
CATEGORIES:Webinars
ORGANIZER;CN="Mailers Hub":MAILTO:info@mailershub.com
END:VEVENT
BEGIN:VEVENT
DTSTART;TZID=America/New_York:20251022T080000
DTEND;TZID=America/New_York:20251024T170000
DTSTAMP:20260423T001221
CREATED:20240912T184837Z
LAST-MODIFIED:20240912T184843Z
UID:3199-1761120000-1761325200@mailershub.com
SUMMARY:PRINTING United Expo
DESCRIPTION:
URL:https://mailershub.com/event/printing-united-expo-2/
END:VEVENT
BEGIN:VEVENT
DTSTART;TZID=America/New_York:20260129T130000
DTEND;TZID=America/New_York:20260129T140000
DTSTAMP:20260423T001221
CREATED:20260115T202610Z
LAST-MODIFIED:20260115T202613Z
UID:4406-1769691600-1769695200@mailershub.com
SUMMARY:Webinar
DESCRIPTION:More details soon!
URL:https://mailershub.com/event/webinar/
END:VEVENT
BEGIN:VEVENT
DTSTART;TZID=America/New_York:20260205T130000
DTEND;TZID=America/New_York:20260205T140000
DTSTAMP:20260423T001221
CREATED:20260115T202906Z
LAST-MODIFIED:20260202T172622Z
UID:4408-1770296400-1770300000@mailershub.com
SUMMARY:The Leaders Connect Mentorship Program
DESCRIPTION:Welcome to Leaders Connect! Leaders Connect is a mentorship program designed to equip future leaders in the mailing and shipping industry with the knowledge they need to succeed. Rising stars from the industry will join as Mentees and be connected with experienced Mentors\, who can guide them with their expertise. This is an exciting opportunity for emerging leaders to learn from the best\, expand their network\, and position themselves for career growth.  \n\n\n\nThis webinar will introduce you to Leaders Connect from three perspectives involved: 1. The Business Owner: Dina Kessler\, Kessler Creative 2. A Leader’s Connect Mentee: Jordan Jolly\, SnailWorks 3. A Leader’s Connect Mentor from a large organization: Bob Rosser\, IWCO Moderator: Paula Stoskopf\, JapsOlson  \n\n\n\nMentorship is a critical component of succession planning and career growth. Leaders Connect brings together experienced industry professionals and emerging talent across direct mail and print to share knowledge\, build leadership skills\, and strengthen our industry’s future. Mentors play a vital role in preserving institutional knowledge and developing bench strength\, while mentees gain insight into how mail\, packages\, data\, and digital communication intersect. Whether you are preparing future leaders or growing your own career\, Leaders Connect offers a meaningful way to engage\, connect\, and lead. \n\n\n\nRegistration is FREE – whether you have knowledge to gain\, knowledge to share\, or would like to introduce this program to your business\, this is a can’t-miss webinar! Click below to join us Thursday at 1 pm ET.
URL:https://mailershub.com/event/webinar-2/
CATEGORIES:Webinars
ATTACH;FMTTYPE=image/jpeg:https://mailershub.com/wp-content/uploads/2026/01/LC-logo.jpeg
ORGANIZER;CN="Mailers Hub":MAILTO:info@mailershub.com
END:VEVENT
BEGIN:VEVENT
DTSTART;TZID=America/New_York:20260212T110000
DTEND;TZID=America/New_York:20260213T123000
DTSTAMP:20260423T001221
CREATED:20250731T200329Z
LAST-MODIFIED:20260114T225128Z
UID:4060-1770894000-1770985800@mailershub.com
SUMMARY:Management Training Workshop - Employee Motivation
DESCRIPTION:When you think of staff motivation\, many things may come to mind: more money\, a bigger office\, a promotion\, or a better quality of life. The truth is\, no matter what we offer people\, true motivation must come from within. Regardless of how it is characterized\, it is important to get the right balance in order to ensure that you have a motivated workforce. \n\n\n\nThe Employee Motivation workshop will give participants several types of tools to become a great motivator\, including goal setting and influencing skills. Participants will also learn about five of the most popular motivational models and how to bring them together to create a custom program. \n\n\n\nWorkshop Objectives \n\n\n\n\nIdentifying specific issues in the field and addressing these issues\, and how to maintain this going forward.\n\n\n\nDefining motivation\, an employer’s role in it\, and how the employee can play a part.\n\n\n\nIdentifying the importance of Employee Motivation.\n\n\n\nIdentifying methods of Employee Motivation.\n\n\n\nDescribing the theories that pertain to Employee Motivation\, with particular reference to psychology.\n\n\n\nIdentifying personality types and how they fit into a plan for Employee Motivation.\n\n\n\nSetting clear and defined goals.\n\n\n\n\nThursday\, Feb. 12\, 2026\, 11:00 am – 12:30 pmFriday\, Feb. 13\, 2026\, 11:00 am – 12:30 pm \n\n\n\nThis workshop is part of the four-workshop Management Training Series being held through March\, 2026. Each workshop is comprised of two 1.5-hour sessions. Learn more about the full Management Training Series and registration guidelines by CLICKING HERE. \n\n\n\n \n\n\n\n\nSubscriber Registration(Log-in Required)\n\n\n\nNon-subscriberRegistration
URL:https://mailershub.com/event/management-training-workshop-employee-motivation/
END:VEVENT
BEGIN:VEVENT
DTSTART;TZID=America/New_York:20260219T130000
DTEND;TZID=America/New_York:20260219T140000
DTSTAMP:20260423T001221
CREATED:20260217T222740Z
LAST-MODIFIED:20260217T223716Z
UID:4491-1771506000-1771509600@mailershub.com
SUMMARY:2026 USPS Promotions: Strategy\, Savings\, & Smarter Mail
DESCRIPTION:The USPS 2026 Promotions are packed with opportunity — but making sense of the programs\, stacks\, and strategy can be overwhelming. That’s where this fast-paced\, insight-rich session comes in. \n\n\n\nWhether you’re a mail service provider\, printer\, nonprofit\, or marketer\, this webinar will help you: \n\n\n\n\nBreak down each 2026 promotion (what’s new\, what’s changed)\n\n\n\nUnderstand how to stack discounts (up to 12% in some cases!)\n\n\n\nLearn how Informed Delivery and sustainability bonuses can boost ROI\n\n\n\nSee how real math models can help you prove value to your clients\n\n\n\nExplore strategic use cases for catalogs\, First-Class mail\, and emerging tech\n\n\n\n\nYou’ll walk away with practical\, client-facing examples and a fresh perspective on how smart campaign planning can offset postage increases\, deepen relationships\, and position your shop for growth in 2026. \n\n\n\nThis isn’t just a “read-the-rules” session — it’s about using promotions as a strategy\, not just a discount. \n\n\n\nPresented by Lori Joyner-Swetlin\, founder of Holon Insights\, a consulting practice focused on making print\, data\, and automation smarter (and more useful). You’ve probably seen her present USPS promotions before — now she’s bringing a new framework designed to help you pull more value from every piece of mail. \n\n\n\n📦 Bring your questions\, your curiosity\, and your favorite client challenge.
URL:https://mailershub.com/event/2026-usps-promotions-strategy-savings-smarter-mail/
CATEGORIES:Webinars
ATTACH;FMTTYPE=image/png:https://mailershub.com/wp-content/uploads/2026/02/Feb-19-square.png
ORGANIZER;CN="Mailers Hub":MAILTO:info@mailershub.com
END:VEVENT
BEGIN:VEVENT
DTSTART;TZID=America/New_York:20260226T110000
DTEND;TZID=America/New_York:20260227T123000
DTSTAMP:20260423T001221
CREATED:20250731T180618Z
LAST-MODIFIED:20260114T225347Z
UID:4043-1772103600-1772195400@mailershub.com
SUMMARY:Management Training: Workshop - Supervising Others
DESCRIPTION:Supervising others can be a tough job. Between managing your own time and projects\, helping your team members solve problems and complete tasks\, and helping other supervisors\, your day can fill up before you know it. \n\n\n\nThe Supervising Others workshop will help supervisors become more efficient and proficient\, with information on delegating\, managing time\, setting goals and expectations (for themselves and others)\, providing feedback\, resolving conflict\, and administering discipline. \n\n\n\nWorkshop Objectives \n\n\n\n\nUnderstand what a new supervisor needs to do to get started on the right path.\n\n\n\nDefine requirements for particular tasks.\n\n\n\nSet expectations for your staff.\n\n\n\nSet SMART goals for yourself.\n\n\n\nHelp your staff set SMART goals.\n\n\n\nAssign work and delegate appropriately.\n\n\n\nProvide effective\, appropriate feedback to your staff.\n\n\n\nManage your time more efficiently.\n\n\n\nHelp your team resolve conflicts.\n\n\n\nUnderstand how to manage effectively in particular situations.\n\n\n\n\nThursday\, Feb. 26\, 2026\, 11:00 am – 12:30 pmFriday\, Feb. 27\, 2026\, 11:00 am – 12:30 pm \n\n\n\nThis workshop is part of the four-workshop Management Training Series being held through November 2025. Each workshop is comprised of two 1.5-hour sessions. Learn more about the full Management Training Series and registration guidelines by CLICKING HERE. \n\n\n\n\nSubscriber Registration(Log-in Required)\n\n\n\nNon-subscriberRegistration
URL:https://mailershub.com/event/management-training-workshop-1-supervising-others/
END:VEVENT
BEGIN:VEVENT
DTSTART;TZID=America/New_York:20260305T110000
DTEND;TZID=America/New_York:20260306T123000
DTSTAMP:20260423T001221
CREATED:20250731T195656Z
LAST-MODIFIED:20260114T225756Z
UID:4054-1772708400-1772800200@mailershub.com
SUMMARY:Management Training Workshop - Coaching and Mentoring
DESCRIPTION:You are in your office looking over your performance report\, and it happened again. Your low-performing employee failed to meet the quota this month\, even after you spoke with them about the importance of meeting goals. This employee has a great attitude\, and you know they can do better. You just do not know how to motivate them to reach the goal. Money used to work\, but that has worn off. You are baffled\, and you know being frustrated makes matters worse. What do you do? \n\n\n\nThe Coaching and Mentoring workshop focuses on how to better coach your employees to higher performance. Coaching is a process of relationship building and setting goals. How well you coach is related directly to how well you are able to foster a great working relationship with your employees through understanding them and strategic goal setting. \n\n\n\nWorkshop Objectives \n\n\n\n\nIdentify the difference between mentoring and coaching.\n\n\n\nDefine coaching\, mentoring\, and the GROW model.\n\n\n\nIdentify and set appropriate goals using the SMART technique of goal setting.\n\n\n\nIdentify the steps necessary to define the current state or reality of your employee’s situation.\n\n\n\nIdentify the steps in developing a finalized plan or wrapping it up and getting your employee motivated to accomplish those plans.\n\n\n\nIdentify the benefits of building and fostering trust with your employee.\n\n\n\nIdentify the steps in giving effective feedback while maintaining trust.\n\n\n\nIdentify and overcome common obstacles.\n\n\n\nIdentify when the coaching is at an end and transition your employee to other growth opportunities.\n\n\n\n\nThursday\, March 5\, 2026\, 11:00 am – 12:30 pm Friday\, March 6\, 2026\, 11:00 am – 12:30 pm \n\n\n\nThis workshop is part of the four-workshop Management Training Series being held through November 2025. Each workshop is comprised of two 1.5-hour sessions. Learn more about the full Management Training Series and registration guidelines by CLICKING HERE. \n\n\n\n\nSubscriber Registration(Log-in Required)\n\n\n\nNon-subscriberRegistration
URL:https://mailershub.com/event/management-training-workshop-coaching-and-mentoring/
END:VEVENT
BEGIN:VEVENT
DTSTART;TZID=America/New_York:20260319T120000
DTEND;TZID=America/New_York:20260321T103000
DTSTAMP:20260423T001221
CREATED:20260123T183707Z
LAST-MODIFIED:20260123T184020Z
UID:4420-1773921600-1774089000@mailershub.com
SUMMARY:MFSA Annual Conference
DESCRIPTION:We convene annually for a three-day conference\, and membership is obtained by attending this gathering. Our conferences host cutting-edge speakers who introduce participants to the latest technology and marketing trends\, feature USPS executives\, and showcase international vendors who support the industry. Attendees typically include CEOs\, sales and marketing executives\, and entrepreneurs. \n\n\n\nOur meeting fosters a unique environment where fierce competitors come together as collaborators\, promoting a sense of camaraderie seldom found in today’s business world. \n\n\n\nSchedule at-a-glance \n\n\n\nGolf Tournament \n\n\n\nSpeakers \n\n\n\nRegister for our next conference\, March 19 through 21\, 2026\, in Irving\, Texas. 
URL:https://mailershub.com/event/mfsa-annual-conference/
CATEGORIES:Industry Events,Trade Show
ATTACH;FMTTYPE=image/png:https://mailershub.com/wp-content/uploads/2026/01/banner-image.png
ORGANIZER;CN="The MFSA":MAILTO:info@themfsa.org
END:VEVENT
BEGIN:VEVENT
DTSTART;TZID=America/New_York:20260326T110000
DTEND;TZID=America/New_York:20260327T123000
DTSTAMP:20260423T001221
CREATED:20250731T201025Z
LAST-MODIFIED:20260114T231003Z
UID:4062-1774522800-1774614600@mailershub.com
SUMMARY:Management Training Workshop - Leadership & Influence
DESCRIPTION:They say that leaders are born\, not made. While it is true that some people are born leaders\, some leaders are born in the midst of adversity. Often\, simple people who have never had a leadership role will stand up and take the lead when a situation they care about requires it. A simple example is parenting. When a child arrives\, many parents discover leadership abilities they never knew existed in order to guide and protect their offspring. \n\n\n\nOnce you learn the techniques of true Leadership and Influence\, you will be able to build the confidence it takes to take the lead. The more experience you have acting as a genuine leader\, the easier it will be for you. It is never easy to take the lead\, as you will need to make decisions and face challenges\, but it can become natural and rewarding. \n\n\n\nWorkshop Objectives \n\n\n\n\nDefine “leadership.”\n\n\n\nExplain the Great Man Theory.\n\n\n\nExplain the Trait Theory.\n\n\n\nUnderstand Transformational Leadership.\n\n\n\nUnderstand the people you lead and how to adapt your leadership styles.\n\n\n\nExplain leading by Directing.\n\n\n\nExplain leading by Participating.\n\n\n\nExplain leading by Delegating.\n\n\n\nKouzes and Posner.\n\n\n\nConduct a personal inventory.\n\n\n\nCreate an action plan.\n\n\n\nEstablish personal goals.\n\n\n\n\nThursday\, March 26\, 2026\, 11:00 am – 12:30 pmFriday\, March 27\, 2026\, 11:00 am – 12:30 pm \n\n\n\nThis workshop is part of the four-workshop Management Training Series being held through November 2025. Each workshop is comprised of two 1.5-hour sessions. Learn more about the full Management Training Series and registration guidelines by CLICKING HERE. \n\n\n\n \n\n\n\n\nSubscriber Registration(Log-in required)\n\n\n\nNon-subscriberRegistration
URL:https://mailershub.com/event/management-training-workshop-leadership-influence/
END:VEVENT
BEGIN:VEVENT
DTSTART;TZID=America/New_York:20260402T130000
DTEND;TZID=America/New_York:20260402T140000
DTSTAMP:20260423T001221
CREATED:20260323T235528Z
LAST-MODIFIED:20260330T194028Z
UID:4638-1775134800-1775138400@mailershub.com
SUMMARY:Legal Update: Extended Producer Responsibility
DESCRIPTION:Packaging EPR laws are accelerating\, and their impact on print and mailing formats is growing every month. Our webinar will highlight the regulatory developments you need to know and the operational changes your clients will soon expect. Join us for a clear\, actionable discussion designed to keep your business ahead of the curve.  \n\n\n\nWhy does this matter to you? Learn more – read the latest article from Brann & Isaacson on the Mailers Hub Newswire HERE. \n\n\n\nPresented by Jamie Szal and Adam Mooney\, Brann & Isaacson. \n\n\n\nThis webinar is FREE for Mailers Hub subscribers; non-subscribers are $25 per ORGANIZATION.  \n\n\n\n \n\n\n\n\nSubscriber RegistrationLog in required\n\n\n\n\n\nNon-Subscriber Registration
URL:https://mailershub.com/event/legal-update-extended-producer-responsibility/
ATTACH;FMTTYPE=image/png:https://mailershub.com/wp-content/uploads/2026/03/apr-2.png
END:VEVENT
BEGIN:VEVENT
DTSTART;TZID=America/New_York:20260416T130000
DTEND;TZID=America/New_York:20260416T140000
DTSTAMP:20260423T001221
CREATED:20260323T235821Z
LAST-MODIFIED:20260414T205346Z
UID:4640-1776344400-1776348000@mailershub.com
SUMMARY:Postal Update: The Latest Rate Case
DESCRIPTION:The July price change promises to bring more than new prices.  Structural changes also will be part of the filing.  Be sure you understand what’s new and different\, and are ready to advise your clients.  Join us on Thursday\, April 16\, for a webinar featuring Sharon Owens\, Vice President\, Pricing and Costing\, and Fiona Machado\, USPS\, Director\, Pricing and Costing Strategy Support\, as they review the major elements of the filing and answers attendees questions. \n\n\n\n \n\n\n\n\nSubscriber RegistrationLog in Required\n\n\n\n\n\nNon-subscriberRegistration\n\n\n\n\n \n\n\n\nRead the complete filing on the PRC.GOV website. \n\n\n\n \n\n\n\nFree for Mailers Hub subscribers\, non-subscribers $25 per ORGANIZATION
URL:https://mailershub.com/event/postal-update-the-latest-rate-case/
END:VEVENT
BEGIN:VEVENT
DTSTART;TZID=America/New_York:20260423T130000
DTEND;TZID=America/New_York:20260423T140000
DTSTAMP:20260423T001221
CREATED:20260422T161818Z
LAST-MODIFIED:20260422T161821Z
UID:4977-1776949200-1776952800@mailershub.com
SUMMARY:The Future of AI and Mail: Making It Work For You
DESCRIPTION:Join Sharick Mirza\, CEO & Founder of Assurety Consulting & Solutions\, on April 23\, 2026\, at 1:00 PM for a practical discussion on what AI really means for the future of mail and distribution.  \n\n\n\nIn this session\, attendees will discover how organizations can:  \n\n\n\n• Build the right foundation for successful AI adoption  \n\n\n\n• Connect operational data for better visibility and smarter decisions • Use AI in practical\, measurable ways across mail and distribution workflows  \n\n\n\n• Reduce uncertainty\, improve performance\, and prepare for what’s next A must-attend session for mailers ready to move beyond the hype and into real-world transformation.
URL:https://mailershub.com/event/the-future-of-ai-and-mail/
CATEGORIES:Webinars
ATTACH;FMTTYPE=image/png:https://mailershub.com/wp-content/uploads/2026/04/april-23-home-page.png
ORGANIZER;CN="Mailers Hub":MAILTO:info@mailershub.com
END:VEVENT
END:VCALENDAR