BEGIN:VCALENDAR
VERSION:2.0
PRODID:-//Mailers Hub - ECPv6.15.20//NONSGML v1.0//EN
CALSCALE:GREGORIAN
METHOD:PUBLISH
X-ORIGINAL-URL:https://mailershub.com
X-WR-CALDESC:Events for Mailers Hub
REFRESH-INTERVAL;VALUE=DURATION:PT1H
X-Robots-Tag:noindex
X-PUBLISHED-TTL:PT1H
BEGIN:VTIMEZONE
TZID:America/New_York
BEGIN:DAYLIGHT
TZOFFSETFROM:-0500
TZOFFSETTO:-0400
TZNAME:EDT
DTSTART:20240310T070000
END:DAYLIGHT
BEGIN:STANDARD
TZOFFSETFROM:-0400
TZOFFSETTO:-0500
TZNAME:EST
DTSTART:20241103T060000
END:STANDARD
BEGIN:DAYLIGHT
TZOFFSETFROM:-0500
TZOFFSETTO:-0400
TZNAME:EDT
DTSTART:20250309T070000
END:DAYLIGHT
BEGIN:STANDARD
TZOFFSETFROM:-0400
TZOFFSETTO:-0500
TZNAME:EST
DTSTART:20251102T060000
END:STANDARD
BEGIN:DAYLIGHT
TZOFFSETFROM:-0500
TZOFFSETTO:-0400
TZNAME:EDT
DTSTART:20260308T070000
END:DAYLIGHT
BEGIN:STANDARD
TZOFFSETFROM:-0400
TZOFFSETTO:-0500
TZNAME:EST
DTSTART:20261101T060000
END:STANDARD
END:VTIMEZONE
BEGIN:VEVENT
DTSTART;TZID=America/New_York:20250626T130000
DTEND;TZID=America/New_York:20250626T140000
DTSTAMP:20260423T033545
CREATED:20250601T154632Z
LAST-MODIFIED:20250601T162125Z
UID:3835-1750942800-1750946400@mailershub.com
SUMMARY:Unlock the Hidden Power of Remittance Mail
DESCRIPTION:Unlocking the Hidden Power of Remittance Mail – Discover the Future of USPS Postal Intelligence \n\n\n\n \n\n\n\nREGISTER NOW\n\n\n\n \n\n\n\nIs your organization still treating postage as a cost center? It’s time to flip the script. \n\n\n\nJoin industry experts from GrayHair Software for a high-impact webinar that reveals how remittance mail—those envelopes your customers return with payments and forms—can become a strategic asset in today’s rapidly evolving USPS landscape. \n\n\n\nYou’ll learn: \n\n\n\n\nHow to transform your reply mail into real-time business intelligence\n\n\n\nWhat the new IMbA (Intelligent Mail barcode Accounting) system means for your operations and bottom line\n\n\n\nWhy optimizing Business Reply Mail (BRM) and Qualified BRM (QBRM) is crucial now\n\n\n\nHow USPS Promotions in 2025 can help you save up to 6% on postage\n\n\n\nHow daily remittance data feeds can help improve cash flow\, client satisfaction\, and compliance\n\n\n\n\nPlus: Discover how USPS changes under Delivering for America are impacting delivery times\, remittance float\, and return mail rates—and what you can do about it. \n\n\n\nThis webinar is essential for: \n\n\n\n\nFinancial services and insurance operations leaders\n\n\n\nUtilities and nonprofit billing managers\n\n\n\nCompliance officers\n\n\n\nMail operations teams\n\n\n\nMarketing and customer experience strategists\n\n\n\n\n \n\n\n\n$$$   Don’t miss your chance to turn everyday mail into business gold.  $$$ \n\n\n\n \n\n\n\n \n\n\n\nREGISTER NOW\n\n\n\n \n\n\n\n\nPresented by Lori Joyner\, Postal Solutions Leader\, GrayHair Software \n\n\n\n\n\n\n\n\n\nExpert in USPS solutions\, ensuring accurate mail addressing and data-driven outcomes\n\n\n\nPublic speaker on USPS topics\, including Informed Delivery\, Address Quality\, and Promotions\n\n\n\nContributed to the creation of the Electronic Return Receipt for Certified Mail\n\n\n\nRepresented Pitney Bowes in the Ohio Supreme Court\, leading to nationwide implementation\n\n\n\nKey contributor to the development of the vote-by-mail ballot manager solution\n\n\n\nRecognized authority in Vote-by-Mail systems
URL:https://mailershub.com/event/unlock-the-hidden-power-of-remittance-mail/
CATEGORIES:Webinars
ATTACH;FMTTYPE=image/png:https://mailershub.com/wp-content/uploads/2025/06/June-26-Lori.png
END:VEVENT
END:VCALENDAR