BEGIN:VCALENDAR
VERSION:2.0
PRODID:-//Mailers Hub - ECPv6.15.20//NONSGML v1.0//EN
CALSCALE:GREGORIAN
METHOD:PUBLISH
X-WR-CALNAME:Mailers Hub
X-ORIGINAL-URL:https://mailershub.com
X-WR-CALDESC:Events for Mailers Hub
REFRESH-INTERVAL;VALUE=DURATION:PT1H
X-Robots-Tag:noindex
X-PUBLISHED-TTL:PT1H
BEGIN:VTIMEZONE
TZID:America/New_York
BEGIN:DAYLIGHT
TZOFFSETFROM:-0500
TZOFFSETTO:-0400
TZNAME:EDT
DTSTART:20240310T070000
END:DAYLIGHT
BEGIN:STANDARD
TZOFFSETFROM:-0400
TZOFFSETTO:-0500
TZNAME:EST
DTSTART:20241103T060000
END:STANDARD
BEGIN:DAYLIGHT
TZOFFSETFROM:-0500
TZOFFSETTO:-0400
TZNAME:EDT
DTSTART:20250309T070000
END:DAYLIGHT
BEGIN:STANDARD
TZOFFSETFROM:-0400
TZOFFSETTO:-0500
TZNAME:EST
DTSTART:20251102T060000
END:STANDARD
BEGIN:DAYLIGHT
TZOFFSETFROM:-0500
TZOFFSETTO:-0400
TZNAME:EDT
DTSTART:20260308T070000
END:DAYLIGHT
BEGIN:STANDARD
TZOFFSETFROM:-0400
TZOFFSETTO:-0500
TZNAME:EST
DTSTART:20261101T060000
END:STANDARD
END:VTIMEZONE
BEGIN:VEVENT
DTSTART;TZID=America/New_York:20250619T130000
DTEND;TZID=America/New_York:20250619T140000
DTSTAMP:20260423T033530
CREATED:20250513T172921Z
LAST-MODIFIED:20250607T152225Z
UID:3771-1750338000-1750341600@mailershub.com
SUMMARY:Making the Move to Production Inkjet
DESCRIPTION:Presented by Ed Wong\, Specialist\, CSG Production Marketing\, Canon USA  \n\n\n\nIndustry analysts have portrayed production inkjet as the technology that is displacing offset and toner production print volumes. While many have adapted production inkjet to produce direct mail\, transactional documents\, books\, and marketing collateral\, there are considerations that you need to be aware of before making the investment. This webinar reviews:  \n\n\n\n\nToday’s market challenges\n\n\n\nThe benefits of inkjet technology\n\n\n\nWhen it could make sense to invest in production inkjet\n\n\n\nPrint applications that could benefit from migrating to production inkjet\n\n\n\nQuestions that should be asked as your company considers production inkjet\n\n\n\n\n \n\n\n\nRegistration for this webinar is FREE for everyone!\n\n\n\nREGISTER NOW\n\n\n\nSponsored by Canon
URL:https://mailershub.com/event/making-the-move-to-production-inkjet/
CATEGORIES:Webinars
ATTACH;FMTTYPE=image/png:https://mailershub.com/wp-content/uploads/2025/05/June-19-Canon.png
END:VEVENT
END:VCALENDAR