BEGIN:VCALENDAR
VERSION:2.0
PRODID:-//Mailers Hub - ECPv6.15.20//NONSGML v1.0//EN
CALSCALE:GREGORIAN
METHOD:PUBLISH
X-ORIGINAL-URL:https://mailershub.com
X-WR-CALDESC:Events for Mailers Hub
REFRESH-INTERVAL;VALUE=DURATION:PT1H
X-Robots-Tag:noindex
X-PUBLISHED-TTL:PT1H
BEGIN:VTIMEZONE
TZID:America/New_York
BEGIN:DAYLIGHT
TZOFFSETFROM:-0500
TZOFFSETTO:-0400
TZNAME:EDT
DTSTART:20240310T070000
END:DAYLIGHT
BEGIN:STANDARD
TZOFFSETFROM:-0400
TZOFFSETTO:-0500
TZNAME:EST
DTSTART:20241103T060000
END:STANDARD
BEGIN:DAYLIGHT
TZOFFSETFROM:-0500
TZOFFSETTO:-0400
TZNAME:EDT
DTSTART:20250309T070000
END:DAYLIGHT
BEGIN:STANDARD
TZOFFSETFROM:-0400
TZOFFSETTO:-0500
TZNAME:EST
DTSTART:20251102T060000
END:STANDARD
BEGIN:DAYLIGHT
TZOFFSETFROM:-0500
TZOFFSETTO:-0400
TZNAME:EDT
DTSTART:20260308T070000
END:DAYLIGHT
BEGIN:STANDARD
TZOFFSETFROM:-0400
TZOFFSETTO:-0500
TZNAME:EST
DTSTART:20261101T060000
END:STANDARD
END:VTIMEZONE
BEGIN:VEVENT
DTSTART;TZID=America/New_York:20250424T130000
DTEND;TZID=America/New_York:20250424T140000
DTSTAMP:20260425T062329
CREATED:20250409T165505Z
LAST-MODIFIED:20250418T200234Z
UID:3653-1745499600-1745503200@mailershub.com
SUMMARY:The Latest USPS Rate Case
DESCRIPTION:Presented by Sharon Owens\, VP\, Pricing and Costing\, USPS \n\n\n\nYes. Another Rate Case. That raises questions and issues for which you want to ensure you’ve got the latest information. For example\, are you looking at the proposed rate charts? Be sure you’re looking at the right one. The USPS was asked to file two cases\, one reflecting changes to Bound Printed Matter and one without.  \n\n\n\nThere is a lot going on. Don’t miss this chance to hear the latest\, straight from HQ\, ask your questions\, and have the information your business needs to stay ahead.  \n\n\n\n \n\n\n\n\nSubscriber Registration\n\n\n\nNon-subscriber Registration
URL:https://mailershub.com/event/the-latest-usps-rate-case/
END:VEVENT
END:VCALENDAR