BEGIN:VCALENDAR
VERSION:2.0
PRODID:-//Mailers Hub - ECPv6.15.20//NONSGML v1.0//EN
CALSCALE:GREGORIAN
METHOD:PUBLISH
X-WR-CALNAME:Mailers Hub
X-ORIGINAL-URL:https://mailershub.com
X-WR-CALDESC:Events for Mailers Hub
REFRESH-INTERVAL;VALUE=DURATION:PT1H
X-Robots-Tag:noindex
X-PUBLISHED-TTL:PT1H
BEGIN:VTIMEZONE
TZID:America/New_York
BEGIN:DAYLIGHT
TZOFFSETFROM:-0500
TZOFFSETTO:-0400
TZNAME:EDT
DTSTART:20240310T070000
END:DAYLIGHT
BEGIN:STANDARD
TZOFFSETFROM:-0400
TZOFFSETTO:-0500
TZNAME:EST
DTSTART:20241103T060000
END:STANDARD
BEGIN:DAYLIGHT
TZOFFSETFROM:-0500
TZOFFSETTO:-0400
TZNAME:EDT
DTSTART:20250309T070000
END:DAYLIGHT
BEGIN:STANDARD
TZOFFSETFROM:-0400
TZOFFSETTO:-0500
TZNAME:EST
DTSTART:20251102T060000
END:STANDARD
BEGIN:DAYLIGHT
TZOFFSETFROM:-0500
TZOFFSETTO:-0400
TZNAME:EDT
DTSTART:20260308T070000
END:DAYLIGHT
BEGIN:STANDARD
TZOFFSETFROM:-0400
TZOFFSETTO:-0500
TZNAME:EST
DTSTART:20261101T060000
END:STANDARD
END:VTIMEZONE
BEGIN:VEVENT
DTSTART;TZID=America/New_York:20250410T130000
DTEND;TZID=America/New_York:20250410T140000
DTSTAMP:20260425T062217
CREATED:20250409T165521Z
LAST-MODIFIED:20250409T173527Z
UID:3650-1744290000-1744293600@mailershub.com
SUMMARY:OIG UPDATE
DESCRIPTION:The USPS OIG is a critical organization that monitors the health and performance of the USPS and reports its findings to postal ratepayers.  Join us Thursday when one of the OIG’s key staff discussing the group’s latest activities and findings. Key points of the discussion will be recent OIG audit work around the DFA\, including progress on improvements at the RPDCs\, local transportation optimization\, and future audit plans. \n\n\n\n\n\n\n\n\nPresented by Leo Crowe\, Audit Manager\, Network Processing\, USPSOIG \n\n\n\n\nLeo has 20 years of Government Auditing and broad Postal Service experience dating back to college when he worked summers as a letter carrier. He joined the USPS OIG in 2005 and has worked on and led numerous audits of the Postal Service. His audit work includes looking at areas such as financial audits of retail and delivery units\, data analysis and performance\, major investments\, cost and pricing\, supply management and facilities\, as well as Congressional and CIGIE requested work. Recently\, he has overseen notable audits of the Postal Service’s Delivering for America plan in network processing including the Effectiveness of the New Regional Processing and Delivery Center (RPDC) in Atlanta\, GA.  Leo has a Bachelor of Science degree with a concentration in Accounting from Babson College\, and is also a Certified Internal Auditor\, Certified Fraud Examiner and holds the Certificate in Risk Management Assurance. \n\n\n\n \n\n\n\n(Non-subscribers will also receive free registration to the April 24 webinar\, “The Latest USPS Rate Case”\, presented by Sharon Owens\, VP\, Pricing and Costing\, USPS) \n\n\n\n\nSUBSCRIBER REGISTRATIONLOGIN REQUIRED\n\n\n\nNON-SUBSCRIBER REGISTRATION(INCLUDES APRIL 24 WEBINAR!)
URL:https://mailershub.com/event/oig-update/
ORGANIZER;CN="Mailers Hub":MAILTO:info@mailershub.com
END:VEVENT
END:VCALENDAR