BEGIN:VCALENDAR
VERSION:2.0
PRODID:-//Mailers Hub - ECPv6.15.20//NONSGML v1.0//EN
CALSCALE:GREGORIAN
METHOD:PUBLISH
X-ORIGINAL-URL:https://mailershub.com
X-WR-CALDESC:Events for Mailers Hub
REFRESH-INTERVAL;VALUE=DURATION:PT1H
X-Robots-Tag:noindex
X-PUBLISHED-TTL:PT1H
BEGIN:VTIMEZONE
TZID:America/New_York
BEGIN:DAYLIGHT
TZOFFSETFROM:-0500
TZOFFSETTO:-0400
TZNAME:EDT
DTSTART:20240310T070000
END:DAYLIGHT
BEGIN:STANDARD
TZOFFSETFROM:-0400
TZOFFSETTO:-0500
TZNAME:EST
DTSTART:20241103T060000
END:STANDARD
BEGIN:DAYLIGHT
TZOFFSETFROM:-0500
TZOFFSETTO:-0400
TZNAME:EDT
DTSTART:20250309T070000
END:DAYLIGHT
BEGIN:STANDARD
TZOFFSETFROM:-0400
TZOFFSETTO:-0500
TZNAME:EST
DTSTART:20251102T060000
END:STANDARD
BEGIN:DAYLIGHT
TZOFFSETFROM:-0500
TZOFFSETTO:-0400
TZNAME:EDT
DTSTART:20260308T070000
END:DAYLIGHT
BEGIN:STANDARD
TZOFFSETFROM:-0400
TZOFFSETTO:-0500
TZNAME:EST
DTSTART:20261101T060000
END:STANDARD
END:VTIMEZONE
BEGIN:VEVENT
DTSTART;TZID=America/New_York:20250220T130000
DTEND;TZID=America/New_York:20250220T140000
DTSTAMP:20260425T094516
CREATED:20250210T194641Z
LAST-MODIFIED:20250210T203840Z
UID:3527-1740056400-1740060000@mailershub.com
SUMMARY:Service Standard Changes
DESCRIPTION:USPS Service-ish Standards.  Just How Long Should It Take? \n\n\n\nHow long does it take for a piece of mail to be delivered?  How long should it take?  How long will it take next month?  Next year? \n\n\n\nUnderstanding how mail moves and how long it takes to be delivered is essential.  The Postal Service has service standards\, of course\, but what do those really mean?  Are they a suggestion or a goal?  And now the Postal Service is planning a complex new set of service standards.  Will that impact commercial mailers? \n\n\n\nWe’ll look at those questions and more with Dave Lewis\, President of SnailWorks.  Dave and SnailWorks measure the performance of billions of pieces of mail and have a unique insight into how mail moves and what new service standards can mean.  \n\n\n\nDave will join us for a webinar on Postal Service performance now and where it’s headed.  Among the things he will be covering: \n\n\n\n\nA snapshot of service performance today;\n\n\n\nInsights into where mail may get delayed and what causes the delays;\n\n\n\nThe new service standards\, and how they will work;\n\n\n\nThe difference between 5D and 3D service standards;\n\n\n\nWhat mailers can do to optimize service and manage their customers’ expectation.\n\n\n\n\nDave will be joined by Leo Raymond\, Commissar of Mailers Hub\, for his unique insights into what’s going on inside the Postal Service. If you care when mail gets delivered\, you should make a point of joining us.  If you don’t care\, then we are very jealous. \n\n\n\n\nSubscriber Registration(Log In Required)\n\n\n\nNon-SubscriberRegistration
URL:https://mailershub.com/event/service-standard-changes/
CATEGORIES:Webinars
ATTACH;FMTTYPE=image/png:https://mailershub.com/wp-content/uploads/2025/02/Feb-20-homepage-image.png
ORGANIZER;CN="Mailers Hub":MAILTO:info@mailershub.com
END:VEVENT
END:VCALENDAR